BEGIN:VCALENDAR
VERSION:2.0
PRODID:icalendar-ruby
CALSCALE:GREGORIAN
METHOD:PUBLISH
BEGIN:VEVENT
DTSTAMP:20260425T155615Z
UID:7-982465@mthollycommunitychurch.com
DTSTART:20260927T170000Z
DTEND:20260927T180000Z
CLASS:PUBLIC
CREATED:20260425T075451
DESCRIPTION:
LAST-MODIFIED:20260425T075451
LOCATION:Folwell Elementary School\, Mt. Holly NJ 08060
SUMMARY:Worship Service
URL;VALUE=URI:https://www.mthollycommunitychurch.com/events/worship-service
 --6/2026-09-27
ATTACH;FILENAME=Screen-Shot-2024-11-07-at-2.15.02-PM.png;FMTTYPE=image/png:
 https://dq5pwpg1q8ru0.cloudfront.net/2024/11/07/19/21/45/6e73b9e4-68d0-47d
 f-b40e-d4cc60df891d/Screen-Shot-2024-11-07-at-2.15.02-PM.png
END:VEVENT
END:VCALENDAR
